BEGIN:VCALENDAR
VERSION:2.0
PRODID:-//Philip Glass - ECPv6.15.13.1//NONSGML v1.0//EN
CALSCALE:GREGORIAN
METHOD:PUBLISH
X-WR-CALNAME:Philip Glass
X-ORIGINAL-URL:https://philipglass.com
X-WR-CALDESC:Events for Philip Glass
REFRESH-INTERVAL;VALUE=DURATION:PT1H
X-Robots-Tag:noindex
X-PUBLISHED-TTL:PT1H
BEGIN:VTIMEZONE
TZID:UTC
BEGIN:STANDARD
TZOFFSETFROM:+0000
TZOFFSETTO:+0000
TZNAME:UTC
DTSTART:20240101T000000
END:STANDARD
END:VTIMEZONE
BEGIN:VEVENT
DTSTART;VALUE=DATE:20251129
DTEND;VALUE=DATE:20251130
DTSTAMP:20260423T102059
CREATED:20250926T235037Z
LAST-MODIFIED:20251129T230516Z
UID:10001538-1764374400-1764460799@philipglass.com
SUMMARY:Prague\, Czech Rep. (Les Enfants Terribles)
DESCRIPTION:Buy TicketsKatia & Marielle Labèque present a piano recital featuring Les Enfants Terribles for piano duo.
URL:https://philipglass.com/event/prague-czech-rep-les-enfants-terribles/
LOCATION:Rudolfinum\, Alšovo nábř. 79/12\, Staré Město\, 110 00 Staré město-Praha 1\, Czechia
END:VEVENT
END:VCALENDAR