BEGIN:VCALENDAR
VERSION:2.0
PRODID:-//Philip Glass - ECPv6.15.13.1//NONSGML v1.0//EN
CALSCALE:GREGORIAN
METHOD:PUBLISH
X-WR-CALNAME:Philip Glass
X-ORIGINAL-URL:https://philipglass.com
X-WR-CALDESC:Events for Philip Glass
REFRESH-INTERVAL;VALUE=DURATION:PT1H
X-Robots-Tag:noindex
X-PUBLISHED-TTL:PT1H
BEGIN:VTIMEZONE
TZID:UTC
BEGIN:STANDARD
TZOFFSETFROM:+0000
TZOFFSETTO:+0000
TZNAME:UTC
DTSTART:20250101T000000
END:STANDARD
END:VTIMEZONE
BEGIN:VEVENT
DTSTART;VALUE=DATE:20260211
DTEND;VALUE=DATE:20260212
DTSTAMP:20260423T102034
CREATED:20260108T235152Z
LAST-MODIFIED:20260211T230521Z
UID:10001643-1770768000-1770854399@philipglass.com
SUMMARY:Düsseldorf\, Germany (Symphony No.3)
DESCRIPTION:31st January 2026 – 30th May 2026\nPhilip Glass \n\nSymphony No. 3\n\n\nPRODUCTION\nMoto perpetuo\n\n\nCREATIVE\nIratxe Ansa\, Igor Bacovich\, choreography\n\n\nPERFORMERS\nDüsseldorfer Symphoniker\n\n\nCONDUCTOR\nThomas Herzog\n\nview dates \n\n31st January 2026\nDeutsche Oper am Rhein\, Düsseldorf\, Germany\n\n\n11th February 2026\nDeutsche Oper am Rhein\, Düsseldorf\, Germany\n\n\n15th February 2026\nDeutsche Oper am Rhein\, Düsseldorf\, Germany\n\n\n22nd February 2026\nDeutsche Oper am Rhein\, Düsseldorf\, Germany\n\n\n1st April 2026\nDeutsche Oper am Rhein\, Düsseldorf\, Germany\n\n\n18th April 2026\nDeutsche Oper am Rhein\, Düsseldorf\, Germany\n\n\n22nd May 2026\nDeutsche Oper am Rhein\, Düsseldorf\, Germany\n\n\n30th May 2026\nDeutsche Oper am Rhein\, Düsseldorf\, Germany
URL:https://philipglass.com/event/dusseldorf-germany-symphony-no-3-2/
LOCATION:Deutsche Oper am Rhein\, Opernplatz\, 47051 Duisburg\, Germany
END:VEVENT
END:VCALENDAR