BEGIN:VCALENDAR
VERSION:2.0
PRODID:-//Philip Glass - ECPv6.15.13.1//NONSGML v1.0//EN
CALSCALE:GREGORIAN
METHOD:PUBLISH
X-ORIGINAL-URL:https://philipglass.com
X-WR-CALDESC:Events for Philip Glass
REFRESH-INTERVAL;VALUE=DURATION:PT1H
X-Robots-Tag:noindex
X-PUBLISHED-TTL:PT1H
BEGIN:VTIMEZONE
TZID:UTC
BEGIN:STANDARD
TZOFFSETFROM:+0000
TZOFFSETTO:+0000
TZNAME:UTC
DTSTART:20250101T000000
END:STANDARD
END:VTIMEZONE
BEGIN:VEVENT
DTSTART;VALUE=DATE:20260220
DTEND;VALUE=DATE:20260221
DTSTAMP:20260423T102803
CREATED:20251201T233633Z
LAST-MODIFIED:20260220T235030Z
UID:10001618-1771545600-1771631999@philipglass.com
SUMMARY:Perth\, Australia (The Trial - AUSTRALIAN PREMIERE)
DESCRIPTION:https://www.perthfestival.com.au/program/season-2026/the-trial \nContemporary thriller meets operatic fever dream in this Australian premiere of Philip Glass’ The Trial. Under a blaze of fluorescent lights and with the shuffle of endless paperwork\, the action unfolds in a chilling maze of a forgotten office space in Forrest Chase\, where order masks chaos and every corner hides a secret. \n‘One of the few genuinely disruptive arts organisations in Australia.’ The West Australian Presented with West Australian Opera & West Australian Symphony Orchestra  \nProudly supported by the WA Government & Forrest Chase | ISPT.© 2014 Dunvagen Music Publishers Inc. Used by Permission  \nComposer Phillip GlassLibretto Christopher Hampton based on the story by Franz KafkaDirector Mel CantwellConductor Mark CoughlanStarring Jarred Wall as Josef K.Orchestra West Australian Symphony OrchestraSet & Costume Designer Bruce McKinvenLighting & Audio Visual Designer Mark HaslamProducer Tim Carter
URL:https://philipglass.com/event/perth-australia-the-trial-australian-premiere-3/
LOCATION:Forrest Chase\, Level 3\, Wellington Street\, Karboordup / Perth
END:VEVENT
END:VCALENDAR