BEGIN:VCALENDAR
VERSION:2.0
PRODID:-//Philip Glass - ECPv6.15.13.1//NONSGML v1.0//EN
CALSCALE:GREGORIAN
METHOD:PUBLISH
X-ORIGINAL-URL:https://philipglass.com
X-WR-CALDESC:Events for Philip Glass
REFRESH-INTERVAL;VALUE=DURATION:PT1H
X-Robots-Tag:noindex
X-PUBLISHED-TTL:PT1H
BEGIN:VTIMEZONE
TZID:UTC
BEGIN:STANDARD
TZOFFSETFROM:+0000
TZOFFSETTO:+0000
TZNAME:UTC
DTSTART:20250101T000000
END:STANDARD
END:VTIMEZONE
BEGIN:VEVENT
DTSTART;VALUE=DATE:20260227
DTEND;VALUE=DATE:20260228
DTSTAMP:20260422T091807
CREATED:20260123T230655Z
LAST-MODIFIED:20260226T235554Z
UID:10001681-1772150400-1772236799@philipglass.com
SUMMARY:San Francisco\, CA (Harpsichord Concerto)
DESCRIPTION:https://www.thesfco.org/events/seasonannouncement-xefg2-zh898-pjlp6  \nFriday\, February 27\, 2026  7:30 PM 9:30 PM Taube Atrium Theater 401 Van Ness Ave San Francisco\, CA 94102 United States (map)  \nMainStage 3: Seeing DoubleConcert Sponsors: Leon and Karen Traister \nJens Ibsen – “Scene Symphony” for string orchestra SFCO commission\, with support from the NEA \nPhilip Glass – Concerto for Harpsichord and Orchestra; Jory Vinikour\, harpsichord \nJoseph Haydn – Symphony No. 49 “La Passione”  \n  RSVP 7:30pm San Francisco   \nIn a first for the SFCO\, internationally acclaimed harpsichordist\, Jory Vinikour\, joins Music Director Jory Fankuchen and the San Francisco Chamber Orchestra in Philip Glass’ mesmerizing Concerto for Harpsichord and Orchestra. Mr. Vinikour brings his commanding musicianship and effortless technique to Glass’ homage to the Baroque. In another nod to the pre-Classical style\, Joseph Haydn’s Symphony No. 49\, La Passione\, fuses Baroque sound and form with the dramatic Sturm and Drang movement of the 18th century in a fiery and tumultuous work. Our program opens with Scene Symphony\, an SFCO commission by the brilliant young composer Jens Ibsen.
URL:https://philipglass.com/event/san-francisco-ca-harpsichord-concerto/
LOCATION:Taube Atrium Theater 401 Van Ness Ave San Francisco\, San Francisco\, CA\, United States
GEO:37.779278;-122.416582
END:VEVENT
BEGIN:VEVENT
DTSTART;VALUE=DATE:20260227
DTEND;VALUE=DATE:20260228
DTSTAMP:20260422T091807
CREATED:20260212T232114Z
LAST-MODIFIED:20260226T235552Z
UID:10001690-1772150400-1772236799@philipglass.com
SUMMARY:Lyon\, France (Glassworks)
DESCRIPTION:https://trinitelyon.com/events/glassworks/ \nLIEU  \nChapelle de la Trinité 29-31 rue de la Bourse\, Lyon 2e PROGRAMME  \nGlassworks I. Opening II. Floe III. Islands IV. Rubric V. Façades VI. Closing DISTRIBUTION  \nSuperspectives Alexis Paul\, orgue de barbarie Lionel Palun\, vidéo François Mardirossian\, piano  \nINFO PRATIQUE  \nVendredi 27 février à 21h Ouverture des portes : 20h30 Durée : 1h30 Tarif B (12 à 30€) | Pass journée 30€  \nLe Jean-Sébastien Bar sera ouvert tout au long du festival.  \nAprès avoir installé sa très solide réputation de compositeur avec des œuvres radicales comme Music With Changing Parts (1970) ou Einstein on the Beach (1976)\, c’est avec Glassworks (1982) que Philip Glass se fait connaître du grand public. L’œuvre\, qui se présente comme une synthèse en six pièces des « travaux de Glass »\, a tout du manifeste\, annonçant l’évolution de sa musique (et avec elle du « minimalisme ») vers plus de simplicité\, à l’image du célèbre « Opening ». Inusable chef-d’œuvre de verre traversé de lumière\, Glassworks a tout de l’album culte\, revisité ici de manière originale et pleine de reconnaissance par François Mardirossian (piano)\, Alexis Paul (orgue de Barbarie) et Lionel Palun (vidéo).
URL:https://philipglass.com/event/lyon-france-glassworks/
LOCATION:Chapelle de la Trinité 29-31 rue de la Bourse\, Lyon 2e
END:VEVENT
END:VCALENDAR