BEGIN:VCALENDAR
VERSION:2.0
PRODID:-//Philip Glass - ECPv6.15.13.1//NONSGML v1.0//EN
CALSCALE:GREGORIAN
METHOD:PUBLISH
X-WR-CALNAME:Philip Glass
X-ORIGINAL-URL:https://philipglass.com
X-WR-CALDESC:Events for Philip Glass
REFRESH-INTERVAL;VALUE=DURATION:PT1H
X-Robots-Tag:noindex
X-PUBLISHED-TTL:PT1H
BEGIN:VTIMEZONE
TZID:UTC
BEGIN:STANDARD
TZOFFSETFROM:+0000
TZOFFSETTO:+0000
TZNAME:UTC
DTSTART:20250101T000000
END:STANDARD
END:VTIMEZONE
BEGIN:VEVENT
DTSTART;VALUE=DATE:20260307
DTEND;VALUE=DATE:20260308
DTSTAMP:20260422T114249
CREATED:20260212T232125Z
LAST-MODIFIED:20260307T230524Z
UID:10001691-1772841600-1772927999@philipglass.com
SUMMARY:Oceanside\, CA (Symphony No.3)
DESCRIPTION:25th February 2026 – 25th March 2026\nPhilip Glass \n\nSymphony No. 3\n\n\nPERFORMERS\nCanyon Crest Academy Orchestra\n\nview dates \n\n25th February 2026\nCanyon Crest Academy\, San Diego\, CA\, United States of America\n\n\n7th March 2026\nEl Camino High School\, San Diego\, CA\, United States of America\n\n\n24th March 2026\nCalifornia Center for the Arts Escondido\, San Diego\, CA\, United States of America\n\n\n25th March 2026\nTorrey Pines HS\, San Diego\, CA\, United States of America
URL:https://philipglass.com/event/oceanside-ca-symphony-no-3/
LOCATION:El Camino High School\, 401 Rancho del Oro Dr\, Oceanside\, CA\, United States
GEO:33.222467;-117.320379
X-APPLE-STRUCTURED-LOCATION;VALUE=URI;X-ADDRESS=El Camino High School 401 Rancho del Oro Dr Oceanside CA United States;X-APPLE-RADIUS=500;X-TITLE=401 Rancho del Oro Dr:geo:-117.320379,33.222467
END:VEVENT
BEGIN:VEVENT
DTSTART;VALUE=DATE:20260307
DTEND;VALUE=DATE:20260308
DTSTAMP:20260422T114249
CREATED:20260306T225034Z
LAST-MODIFIED:20260307T230528Z
UID:10001744-1772841600-1772927999@philipglass.com
SUMMARY:Yarmouth Port\, MA (String Quartet No.3 "Mishima")
DESCRIPTION:https://www.giocosachambermusic.com/march7-8 \nWolfgang Amadeus Mozart \nString Quartet  #19 (Dissonance) \nPhilip Glass \nString Quartet #3 (Mishima) \nMaurice Ravel \nString Quartet \nGet tickets for SaturdayGet tickets for Sunday \nHear the whole thing! String quartets from the movies. \nHeather Goodchild Wade\, violin \nJesse Holstein\, violin \nDanielle Farina\, viola \nElizabeth Schultze\, cello
URL:https://philipglass.com/event/yarmouth-port-ma-string-quartet-no-3-mishima/
LOCATION:Yarmouth New Church Preservation Foundation\, 359 State Rte 6 Alt\, Yarmouth Port\, MA\, United States
GEO:41.705732;-70.242971
X-APPLE-STRUCTURED-LOCATION;VALUE=URI;X-ADDRESS=Yarmouth New Church Preservation Foundation 359 State Rte 6 Alt Yarmouth Port MA United States;X-APPLE-RADIUS=500;X-TITLE=359 State Rte 6 Alt:geo:-70.242971,41.705732
END:VEVENT
END:VCALENDAR