BEGIN:VCALENDAR
VERSION:2.0
PRODID:-//Philip Glass - ECPv6.15.13.1//NONSGML v1.0//EN
CALSCALE:GREGORIAN
METHOD:PUBLISH
X-ORIGINAL-URL:https://philipglass.com
X-WR-CALDESC:Events for Philip Glass
REFRESH-INTERVAL;VALUE=DURATION:PT1H
X-Robots-Tag:noindex
X-PUBLISHED-TTL:PT1H
BEGIN:VTIMEZONE
TZID:UTC
BEGIN:STANDARD
TZOFFSETFROM:+0000
TZOFFSETTO:+0000
TZNAME:UTC
DTSTART:20250101T000000
END:STANDARD
END:VTIMEZONE
BEGIN:VEVENT
DTSTART;VALUE=DATE:20260311
DTEND;VALUE=DATE:20260312
DTSTAMP:20260421T060050
CREATED:20250312T230719Z
LAST-MODIFIED:20260310T235027Z
UID:10001342-1773187200-1773273599@philipglass.com
SUMMARY:Los Angeles\, CA (Akhnaten)
DESCRIPTION:http://laopera.org/performances/2026/akhnaten  \n \nAt a Glance\n\n Philip Glass’ acclaimed  opera  returns  by popular demand\nPhelim McDermott’s spectacular production features stunning sets and  costumes that feature animal heads\, exotic plumes and intricate beadwork\nMusic that has permeated  culture from New York City Ballet to  Netflix’s Stranger Things \n\nHailed by critics and beloved by audiences\, this eagerly anticipated revival transports you to Ancient Egypt in Philip Glass’s enthralling portrait of a trailblazing pharaoh. Countertenor John Holiday is the titular Akhnaten\, determined to lead Egypt into a new age even as his plan to abandon the old gods puts his kingdom (and his life) in peril. Mezzo-soprano Sun-Ly Pierce is his queen Nefertiti\, soprano So Young Park is the powerful dowager Queen Tye\, and Grammy winner Zachary James reprises his memorable role as Amenhotep III\, leading the audience through the ritualistic action on the stage.  \nDirector Phelim McDermott revives his visually arresting production\, replete with soaring acrobats\, astonishing jugglers\, and towering sets. With a libretto drawing on ancient texts like The Book of the Dead and a hypnotic\, atmospheric score\, Akhnaten portrays a doomed visionary with all his feats and foibles. Finland’s Dalia Stasevska makes her company debut conducting this tribute to one of the most transformative chapters in Egyptian history. \n                                \n         \nRunning time:  approximately three hours\, including two intermissions. \nSung in English\, Ancient Egyptian\, Biblical Hebrew and Akkadian\, with English subtitles. \nA co-production of LA Opera and English National Opera.  A collaboration with Improbable. \n     
URL:https://philipglass.com/event/los-angeles-ca-akhnaten-3/
LOCATION:Dorothy Chandler Pavilion\, 135 N Grand Ave\, Los Angeles\, CA\, United States
GEO:34.056195;-118.248551
X-APPLE-STRUCTURED-LOCATION;VALUE=URI;X-ADDRESS=Dorothy Chandler Pavilion 135 N Grand Ave Los Angeles CA United States;X-APPLE-RADIUS=500;X-TITLE=135 N Grand Ave:geo:-118.248551,34.056195
END:VEVENT
END:VCALENDAR