BEGIN:VCALENDAR
VERSION:2.0
PRODID:-//Philip Glass - ECPv6.15.13.1//NONSGML v1.0//EN
CALSCALE:GREGORIAN
METHOD:PUBLISH
X-WR-CALNAME:Philip Glass
X-ORIGINAL-URL:https://philipglass.com
X-WR-CALDESC:Events for Philip Glass
REFRESH-INTERVAL;VALUE=DURATION:PT1H
X-Robots-Tag:noindex
X-PUBLISHED-TTL:PT1H
BEGIN:VTIMEZONE
TZID:UTC
BEGIN:STANDARD
TZOFFSETFROM:+0000
TZOFFSETTO:+0000
TZNAME:UTC
DTSTART:20250101T000000
END:STANDARD
END:VTIMEZONE
BEGIN:VEVENT
DTSTART;VALUE=DATE:20260314
DTEND;VALUE=DATE:20260315
DTSTAMP:20260422T114244
CREATED:20250312T230720Z
LAST-MODIFIED:20260314T232527Z
UID:10001343-1773446400-1773532799@philipglass.com
SUMMARY:Los Angeles\, CA (Akhnaten)
DESCRIPTION:http://laopera.org/performances/2026/akhnaten  \n \nAt a Glance\n\n Philip Glass’ acclaimed  opera  returns  by popular demand\nPhelim McDermott’s spectacular production features stunning sets and  costumes that feature animal heads\, exotic plumes and intricate beadwork\nMusic that has permeated  culture from New York City Ballet to  Netflix’s Stranger Things \n\nHailed by critics and beloved by audiences\, this eagerly anticipated revival transports you to Ancient Egypt in Philip Glass’s enthralling portrait of a trailblazing pharaoh. Countertenor John Holiday is the titular Akhnaten\, determined to lead Egypt into a new age even as his plan to abandon the old gods puts his kingdom (and his life) in peril. Mezzo-soprano Sun-Ly Pierce is his queen Nefertiti\, soprano So Young Park is the powerful dowager Queen Tye\, and Grammy winner Zachary James reprises his memorable role as Amenhotep III\, leading the audience through the ritualistic action on the stage.  \nDirector Phelim McDermott revives his visually arresting production\, replete with soaring acrobats\, astonishing jugglers\, and towering sets. With a libretto drawing on ancient texts like The Book of the Dead and a hypnotic\, atmospheric score\, Akhnaten portrays a doomed visionary with all his feats and foibles. Finland’s Dalia Stasevska makes her company debut conducting this tribute to one of the most transformative chapters in Egyptian history. \n                                \n         \nRunning time:  approximately three hours\, including two intermissions. \nSung in English\, Ancient Egyptian\, Biblical Hebrew and Akkadian\, with English subtitles. \nA co-production of LA Opera and English National Opera.  A collaboration with Improbable. \n     
URL:https://philipglass.com/event/los-angeles-ca-akhnaten-4/
LOCATION:Dorothy Chandler Pavilion\, 135 N Grand Ave\, Los Angeles\, CA\, United States
GEO:34.056195;-118.248551
X-APPLE-STRUCTURED-LOCATION;VALUE=URI;X-ADDRESS=Dorothy Chandler Pavilion 135 N Grand Ave Los Angeles CA United States;X-APPLE-RADIUS=500;X-TITLE=135 N Grand Ave:geo:-118.248551,34.056195
END:VEVENT
BEGIN:VEVENT
DTSTART;VALUE=DATE:20260314
DTEND;VALUE=DATE:20260315
DTSTAMP:20260422T114245
CREATED:20250620T225035Z
LAST-MODIFIED:20260314T232522Z
UID:10001435-1773446400-1773532799@philipglass.com
SUMMARY:Berkeley\, CA (La Belle et la Bête)
DESCRIPTION:https://calperformances.org/events/2025-26/theater/opera-parallele-la-belle-et-la-bete-by-philip-glass-nicole-paiement-artistic-director-and-conductor/ \nOpera Parallèle La Belle et la Bête Nicole Paiement\, artistic director and conductor Brian Staufenbiel\, director and scenic designer Cal Performances Company Debut About this PerformanceProgramby Philip Glass Libretto by the composer Based on the film by Jean Cocteau \nFeaturing Hadleigh Adams\, baritone (La Bête/Avenant) Full cast to be announced  \nThis astonishingly original presentation of the fairy tale Beauty and the Beast blurs the distinctions between film and live opera\, merging Jean Cocteau’s classic 1946 romantic fantasy with Philip Glass’ mesmerizing 1994 score. Glass composed the music as a new soundtrack to the film\, transforming the original spoken French dialogue into sung libretto.  \nNow Opera Parallèle has responded to the dreamlike\, subconscious elements of the story with its own new film and stage direction\, further blurring the barriers between the characters onscreen and the singers on stage. The work asks\, What is true beauty? What is good and evil? Can we go beyond appearances and discover the beauty that lies inside the soul?  \n“A multi-veined phantasmagoria of sights and sounds\, drama and pathos and humor” (San Francisco Chronicle).  \nPerformed in French with English subtitles  \nThis performance is made possible in part by Robert Ellis. \nVideo \nBeyond the Stage Related PostsThe lead actors of Opera Parallele’s La Belle et La Bête perform onstage\, with La Bête in the background\, gazing at Belle as she sits in a chair\, wearing a somber expression.  Apr 15\, 2025 | 25-26 Season Feature Stories Reimagined: Six Performances Explore Traditional Tales with a Creative Twist! Mar 13–14\, 2026 \nFri–Sat\, Mar 13–14\, 8pm Zellerbach HallTickets start at $55Subscriptions on sale now
URL:https://philipglass.com/event/berkeley-ca-la-belle-et-la-bete-2/
LOCATION:Cal Performances\, 101 Hill Rd\, Berkeley\, CA\, United States
GEO:37.888273;-122.251119
X-APPLE-STRUCTURED-LOCATION;VALUE=URI;X-ADDRESS=Cal Performances 101 Hill Rd Berkeley CA United States;X-APPLE-RADIUS=500;X-TITLE=101 Hill Rd:geo:-122.251119,37.888273
END:VEVENT
BEGIN:VEVENT
DTSTART;VALUE=DATE:20260314
DTEND;VALUE=DATE:20260315
DTSTAMP:20260422T114245
CREATED:20250724T230541Z
LAST-MODIFIED:20260314T232523Z
UID:10001477-1773446400-1773532799@philipglass.com
SUMMARY:Amsterdam\, Netherlands (Les Enfants Terribles)
DESCRIPTION:https://operazuid.nl/en/performance/les-enfants-terribles/#playlist-section  \nLes Enfants Terribles  \nGérard tells the story of his friends\, brother Paul and sister Lise\, who live in their own fantasy world. Orphaned and dependent on each other\, they spend their days in their room\, where they play the ‘game’. Gérard is Paul and Lise’s only friend and link to the outside world. As they grow older\, their intense bond becomes increasingly destructive. When it becomes too oppressive for Lise\, she starts working as a model and meets Agathe there. What started as a childish fantasy grows into a web in which everyone becomes entangled. \nFour singers\, an actor and three pianos. That’s all it takes to tell a gripping story about the driving\, transcendent and sometimes destructive power of imagination. \nPhilip Glass’ chamber opera Les Enfants Terribles Philip Glass’ is based on the 1929 novel of the same name by French poet\, writer and filmmaker Jean Cocteau. The music is\, in the words of director Béatrice Lachaussée\, ‘enchanting\, fascinating\, hypnotic\, sometimes cheerful and sometimes oppressive’. Glass is known for his repetitive minimal music. In Les Enfants Terribles\, this music immediately evokes strong images. For Lachaussée\, the music describes life\, which just keeps going on and on\, with ups and downs. There is no escape: once you get on that carousel\, you have to finish the ride…
URL:https://philipglass.com/event/amsterdam-netherlands-les-enfants-terribles/
LOCATION:National Opera & Ballet\, Amstel 3\, 1011 PN Amsterdam\, Netherlands
END:VEVENT
END:VCALENDAR