BEGIN:VCALENDAR
VERSION:2.0
PRODID:-//Philip Glass - ECPv6.15.13.1//NONSGML v1.0//EN
CALSCALE:GREGORIAN
METHOD:PUBLISH
X-WR-CALNAME:Philip Glass
X-ORIGINAL-URL:https://philipglass.com
X-WR-CALDESC:Events for Philip Glass
REFRESH-INTERVAL;VALUE=DURATION:PT1H
X-Robots-Tag:noindex
X-PUBLISHED-TTL:PT1H
BEGIN:VTIMEZONE
TZID:UTC
BEGIN:STANDARD
TZOFFSETFROM:+0000
TZOFFSETTO:+0000
TZNAME:UTC
DTSTART:20250101T000000
END:STANDARD
END:VTIMEZONE
BEGIN:VEVENT
DTSTART;VALUE=DATE:20260315
DTEND;VALUE=DATE:20260316
DTSTAMP:20260423T091908
CREATED:20250724T230541Z
LAST-MODIFIED:20260315T234015Z
UID:10001478-1773532800-1773619199@philipglass.com
SUMMARY:Amsterdam\, Netherlands (Les Enfants Terribles)
DESCRIPTION:https://operazuid.nl/en/performance/les-enfants-terribles/#playlist-section  \nLes Enfants Terribles  \nGérard tells the story of his friends\, brother Paul and sister Lise\, who live in their own fantasy world. Orphaned and dependent on each other\, they spend their days in their room\, where they play the ‘game’. Gérard is Paul and Lise’s only friend and link to the outside world. As they grow older\, their intense bond becomes increasingly destructive. When it becomes too oppressive for Lise\, she starts working as a model and meets Agathe there. What started as a childish fantasy grows into a web in which everyone becomes entangled. \nFour singers\, an actor and three pianos. That’s all it takes to tell a gripping story about the driving\, transcendent and sometimes destructive power of imagination. \nPhilip Glass’ chamber opera Les Enfants Terribles Philip Glass’ is based on the 1929 novel of the same name by French poet\, writer and filmmaker Jean Cocteau. The music is\, in the words of director Béatrice Lachaussée\, ‘enchanting\, fascinating\, hypnotic\, sometimes cheerful and sometimes oppressive’. Glass is known for his repetitive minimal music. In Les Enfants Terribles\, this music immediately evokes strong images. For Lachaussée\, the music describes life\, which just keeps going on and on\, with ups and downs. There is no escape: once you get on that carousel\, you have to finish the ride…
URL:https://philipglass.com/event/amsterdam-netherlands-les-enfants-terribles-2/
LOCATION:National Opera & Ballet\, Amstel 3\, 1011 PN Amsterdam\, Netherlands
END:VEVENT
END:VCALENDAR