BEGIN:VCALENDAR
VERSION:2.0
PRODID:-//Philip Glass - ECPv6.15.13.1//NONSGML v1.0//EN
CALSCALE:GREGORIAN
METHOD:PUBLISH
X-ORIGINAL-URL:https://philipglass.com
X-WR-CALDESC:Events for Philip Glass
REFRESH-INTERVAL;VALUE=DURATION:PT1H
X-Robots-Tag:noindex
X-PUBLISHED-TTL:PT1H
BEGIN:VTIMEZONE
TZID:UTC
BEGIN:STANDARD
TZOFFSETFROM:+0000
TZOFFSETTO:+0000
TZNAME:UTC
DTSTART:20250101T000000
END:STANDARD
END:VTIMEZONE
BEGIN:VEVENT
DTSTART;VALUE=DATE:20260317
DTEND;VALUE=DATE:20260318
DTSTAMP:20260423T054024
CREATED:20251001T225049Z
LAST-MODIFIED:20260316T235020Z
UID:10001565-1773705600-1773791999@philipglass.com
SUMMARY:Rome\, Italy (Ballet: I FEEL THE EARTH MOVE)
DESCRIPTION:https://www.operaroma.it/spettacoli/neumeier-godani-millepied/ \nNeumeier / Godani / Millepied \nDirettore Daniel Capps \nSPRING AND FALL                              \nMusica di Antonín Dvořák         \nCoreografia e costumi  John Neumeier \nAssistente alla coreografia  Sasha Riabko \nECHOES FROM A RESTLESS SOUL     \nMusica di Maurice Ravel  \nCoreografia\, scene\, costumi e luci Jacopo Godani \nAssistenti alla coreografia  Zoe Lenzi e Vincenzo De Rosa                                  \nI FEEL THE EARTH MOVE \nMusica di Philipp Glass   \nCoreografia  Benjamin Millepied \nInterpreti \nAlessandra Amato\, Rebecca Bianchi\, Susanna Salvi\, Alessio Rezza \nFederica Maine\, Marianna Suriano\, Claudio Cocino\, Michele Satriano \nOrchestra\, Étoiles\, Primi Ballerini\, Solisti e Corpo di Ballo del Teatro dell’Opera di Roma \nNuovo allestimento Teatro dell’Opera di Roma \nDove Teatro Costanzi Maggiori info
URL:https://philipglass.com/event/rome-italy-ballet-i-feel-the-earth-move/
LOCATION:Teatro dell’Opera di Roma\, Piazza Beniamino Gigli\, 00184 Roma RM\, Italy
END:VEVENT
END:VCALENDAR