BEGIN:VCALENDAR
VERSION:2.0
PRODID:-//Philip Glass - ECPv6.15.13.1//NONSGML v1.0//EN
CALSCALE:GREGORIAN
METHOD:PUBLISH
X-WR-CALNAME:Philip Glass
X-ORIGINAL-URL:https://philipglass.com
X-WR-CALDESC:Events for Philip Glass
REFRESH-INTERVAL;VALUE=DURATION:PT1H
X-Robots-Tag:noindex
X-PUBLISHED-TTL:PT1H
BEGIN:VTIMEZONE
TZID:UTC
BEGIN:STANDARD
TZOFFSETFROM:+0000
TZOFFSETTO:+0000
TZNAME:UTC
DTSTART:20250101T000000
END:STANDARD
END:VTIMEZONE
BEGIN:VEVENT
DTSTART;VALUE=DATE:20260421
DTEND;VALUE=DATE:20260422
DTSTAMP:20260423T043039
CREATED:20250402T235045Z
LAST-MODIFIED:20260318T225236Z
UID:10001378-1776729600-1776815999@philipglass.com
SUMMARY:Paris\, France (Satyagraha)
DESCRIPTION:https://www.operadeparis.fr/saison-25-26/opera/satyagraha \nSatyagraha                                    Philip Glass                                                                            Palais Garnier                                                                            du 10 avril au 03 mai 2026  Quelle est l’influence de Gandhi sur le monde politique contemporain ? C’est cette question qu’explore Satyagraha\, l’opéra de Philip Glass (1980)\, deuxième opus de sa trilogie consacrée à des personnages historiques avec Einstein on the Beach (1976) et Akhnaten (1984). Pour autant\,  Satyagraha  – « force de la vérité » en sanskrit – n’est pas un biopic.  \nCette œuvre à la musique hypnotique mélange les temporalités et associe chacun de ses trois actes à une figure clé liée à Gandhi pour mieux appréhender la genèse de sa pensée politique : Léon Tolstoï avec qui il correspondit\, le poète Rabindranath Tagore qui le soutint\, et enfin Martin Luther King\, nourri par ses principes de non-violence. Satyagraha fait son entrée au répertoire de l’Opéra de Paris dans la mise en scène de Bobbi Jene Smith et d’Or Schraiber qui y ont déjà signé la pièce chorégraphique Pit. Pour eux\, cet opéra « n’est pas seulement une méditation sur l’histoire mais un appel à l’action et une leçon puissante qui résonne encore plus aujourd’hui ».
URL:https://philipglass.com/event/paris-france-satyagraha-4/
LOCATION:Palais Garnier\, Pl. de l’Opéra\, 75009 Paris\, France
END:VEVENT
BEGIN:VEVENT
DTSTART;VALUE=DATE:20260421
DTEND;VALUE=DATE:20260422
DTSTAMP:20260423T043039
CREATED:20260313T230744Z
LAST-MODIFIED:20260318T225234Z
UID:10001746-1776729600-1776815999@philipglass.com
SUMMARY:New York\, NY (Juiliard - A Celebration of Philip Glass)
DESCRIPTION:https://www.carnegiehall.org/Calendar/2026/04/21/Juilliard-at-Zankel-Hall-0730PM \n Juilliard at Zankel Hall A Celebration of Philip Glass  Tuesday\, April 21\, 2026 7:30 PM Zankel Hall  \n Musicians from Juilliard Musicians from Juilliard by Rachel Papo  \n Carnegie Hall presents Juilliard in a program of music by Philip Glass in celebration of his 90th birthday year. The program features Juilliard’s talented students led by Arnhold Creative Associate Nico Muhly and Arnhold Creative Associate at Large Nadia Sirota.
URL:https://philipglass.com/event/new-york-ny-juiliard-a-celebration-of-philip-glass/
LOCATION:Zankel Hall\, 881 7 Ave\, New York\, NY\, United States
GEO:40.764844;-73.980527
X-APPLE-STRUCTURED-LOCATION;VALUE=URI;X-ADDRESS=Zankel Hall 881 7 Ave New York NY United States;X-APPLE-RADIUS=500;X-TITLE=881 7 Ave:geo:-73.980527,40.764844
END:VEVENT
END:VCALENDAR