BEGIN:VCALENDAR
VERSION:2.0
PRODID:-//Philip Glass - ECPv6.15.13.1//NONSGML v1.0//EN
CALSCALE:GREGORIAN
METHOD:PUBLISH
X-WR-CALNAME:Philip Glass
X-ORIGINAL-URL:https://philipglass.com
X-WR-CALDESC:Events for Philip Glass
REFRESH-INTERVAL;VALUE=DURATION:PT1H
X-Robots-Tag:noindex
X-PUBLISHED-TTL:PT1H
BEGIN:VTIMEZONE
TZID:UTC
BEGIN:STANDARD
TZOFFSETFROM:+0000
TZOFFSETTO:+0000
TZNAME:UTC
DTSTART:20250101T000000
END:STANDARD
END:VTIMEZONE
BEGIN:VEVENT
DTSTART;VALUE=DATE:20260423
DTEND;VALUE=DATE:20260424
DTSTAMP:20260423T074728
CREATED:20260108T235526Z
LAST-MODIFIED:20260318T225242Z
UID:10001660-1776902400-1776988799@philipglass.com
SUMMARY:Raleigh\, NC (Violin Concert No.1)
DESCRIPTION:23rd April 2026 – 26th April 2026\nhttps://carolinaballet.com \nPhilip Glass \n\nViolin Concerto No 1\n\n\nPERFORMERS\nCarolina Ballet\n Zalman Raffael\, choreographer\n\n\nCONDUCTOR\nAl Sturgis\n\nview dates \n\n23rd -26th April 2026\nMartin Marietta Center for the Performing Arts\, Raleigh\, NC\, United States of America
URL:https://philipglass.com/event/raleigh-nc-violin-concert-no-1-2/
LOCATION:Martin Marietta Center for the Performing Arts\, 2 E South St\, Raleigh\, NC\, United States
GEO:35.772171;-78.639519
X-APPLE-STRUCTURED-LOCATION;VALUE=URI;X-ADDRESS=Martin Marietta Center for the Performing Arts 2 E South St Raleigh NC United States;X-APPLE-RADIUS=500;X-TITLE=2 E South St:geo:-78.639519,35.772171
END:VEVENT
END:VCALENDAR