BEGIN:VCALENDAR
VERSION:2.0
PRODID:-//Philip Glass - ECPv6.15.13.1//NONSGML v1.0//EN
CALSCALE:GREGORIAN
METHOD:PUBLISH
X-WR-CALNAME:Philip Glass
X-ORIGINAL-URL:https://philipglass.com
X-WR-CALDESC:Events for Philip Glass
REFRESH-INTERVAL;VALUE=DURATION:PT1H
X-Robots-Tag:noindex
X-PUBLISHED-TTL:PT1H
BEGIN:VTIMEZONE
TZID:UTC
BEGIN:STANDARD
TZOFFSETFROM:+0000
TZOFFSETTO:+0000
TZNAME:UTC
DTSTART:20250101T000000
END:STANDARD
END:VTIMEZONE
BEGIN:VEVENT
DTSTART;VALUE=DATE:20260606
DTEND;VALUE=DATE:20260607
DTSTAMP:20260423T113844
CREATED:20250813T232049Z
LAST-MODIFIED:20260318T225336Z
UID:10001517-1780704000-1780790399@philipglass.com
SUMMARY:Amsterdam (Akhnaten in Concert)
DESCRIPTION:https://www.concertgebouw.nl/concerten/8925673-akhnaten-van-philip-glass \n Akhnaten van Philip Glass  \n Musici Radio Filharmonisch Orkest Groot Omroepkoor Karen Kamensek dirigent Benjamin Goodson koordirigent Anthony Roth Costanzo countertenor (Akhnaten)Chrystal E. Williams mezzosopraan (Nefertiti)Sarah Brady sopraan (Queen Tye)Benson Wilson bariton (Horemhab)James Kryshak tenor (Amon\, High Priest)Seth Carico bas-bariton (Aye)Zachary James bas (Amenhotep)  \nKaren Kamensek dirigeerde Glass’ Akhnaten\, en Anthony Roth Costanzo zong de titelrol in de Met. De Matinee haalt beiden (en ook Zachary James) naar Nederland.  \nSamen met Einstein on the Beach en Satyagraha vormt de opera Akhnaten (1983) een drieluik over wetenschap\, politiek en religie. Componist Philip Glass\, veelal in samenwerking met theatermaker Robert Wilson\, creëerde zo een weids muziekdramatisch panorama over actuele onderwerpen in een bijzondere nieuwe vormentaal. In Akhnaten komt na de dood van zijn vader de jonge farao Achnaton aan de macht\, met zijn vrouw Nefertiti – die van de mooie buste in Berlijn. Na zijn kroning schaft hij alle oude goden af om een nieuwe religie te introduceren. Dit tot ontzetting van de priesters\, die hem ten val brengen. Minimalistisch idioom \nGlass gebruikt hier zijn bekende minimalistische idioom\, gecombineerd met overweldigende koor- en dansscènes. De titelrol is geschreven voor een countertenor\, wat de bijzondere status van de farao versterkt. Nefertiti wordt daarentegen gezongen door een alt\, waardoor de vocale kleuren van dit koppel\, samen met de sopraanpartij van moeder Tye\, op een bijzondere manier mengen. Dirigent en een aantal solisten – onder wie titelvertolker Anthony Roth Costanzo – namen ook deel aan de laatste uitvoering van deze opera aan de Metropolitan Opera in New York.
URL:https://philipglass.com/event/amsterdam-akhnaten-in-concert/
LOCATION:Royal Concertgebouw\, Het Concertgebouw\, Concertgebouwplein 10\, 1071 BB Amsterdam\, Netherlands
END:VEVENT
BEGIN:VEVENT
DTSTART;VALUE=DATE:20260606
DTEND;VALUE=DATE:20260607
DTSTAMP:20260423T113844
CREATED:20251027T230632Z
LAST-MODIFIED:20260318T225337Z
UID:10001578-1780704000-1780790399@philipglass.com
SUMMARY:Dublin\, Ireland (The Light\, Mishima Concerto\, Interlude from The Voyage)
DESCRIPTION:https://www.nch.ie/all-events-listing/nsoi-philip-glass-explored-maki-namekawa/ \nNSOI: Philip Glass Explored with Russell Davies & Namekawa                                                     \nNational Symphony Orchestra IrelandDennis Russell Davies conductorMaki Namekawa piano  \nPhilip GlassThe Light (Irish premiere)Interlude from The Voyage (Irish premiere)Piano Concerto\, ‘Mishima’ (Irish premiere)  \nTwo of Philip Glass’s most distinguished champions – conductor Dennis Russell Davies and pianist Maki Namekawa – return to conclude National Symphony Orchestra Ireland’s focus on one of the most unique and distinctive voices in American contemporary music with three Irish premieres.  \nGlass has praised Dennis Russell Davies as ‘one of the world’s most inventive conductors’. He reunites with Glass specialist and muse\, Maki Namekawa\, to reprise their acclaimed 2023 world premiere of the Mishima Piano Concerto for its Irish debut. Crafted from the haunting soundtrack to the 1985 film\, it retains its hypnotic\, cinematic qualities while giving the piano a central\, virtuosic role.  \nThe Light\, Glass’s first score for a full symphony orchestra\, and the Interlude from his opera\, The Voyage\, also receive Irish premieres.  \nPresented by NCH
URL:https://philipglass.com/event/dublin-ireland-the-light-mishima-concerto-interlude-from-the-voyage/
LOCATION:National Concert Hall\, Earlsfort Terrace\, Saint Kevin’s\, Dublin\, D02 N527\, Ireland
END:VEVENT
END:VCALENDAR