BEGIN:VCALENDAR
VERSION:2.0
PRODID:-//Philip Glass - ECPv6.15.13.1//NONSGML v1.0//EN
CALSCALE:GREGORIAN
METHOD:PUBLISH
X-WR-CALNAME:Philip Glass
X-ORIGINAL-URL:https://philipglass.com
X-WR-CALDESC:Events for Philip Glass
REFRESH-INTERVAL;VALUE=DURATION:PT1H
X-Robots-Tag:noindex
X-PUBLISHED-TTL:PT1H
BEGIN:VTIMEZONE
TZID:UTC
BEGIN:STANDARD
TZOFFSETFROM:+0000
TZOFFSETTO:+0000
TZNAME:UTC
DTSTART:20250101T000000
END:STANDARD
END:VTIMEZONE
BEGIN:VEVENT
DTSTART;VALUE=DATE:20260608
DTEND;VALUE=DATE:20260609
DTSTAMP:20260423T114536
CREATED:20260108T235635Z
LAST-MODIFIED:20260318T225341Z
UID:10001672-1780876800-1780963199@philipglass.com
SUMMARY:München\, Germany (Metamorphosis)
DESCRIPTION:23rd February 2026 – 8th June 2026\nPhilip Glass \n\nMetamorphosis\n\nAstor Piazzolla \n\nAdios Nonino\n\n\nPERFORMERS\nHermann-Levi-Akademie des Bayerischen Staatsorchesters\n\nview dates \n\n23rd February 2026\nAlte Pinakothek\, Munich\, Germany\n\n\n8th June 2026\nAlte Pinakothek\, Munich\, Germany
URL:https://philipglass.com/event/munchen-germany-metamorphosis-2/
LOCATION:Alte Pinakothek\, Barer Str. 27\, 80333 München\, Germany
END:VEVENT
END:VCALENDAR