BEGIN:VCALENDAR
VERSION:2.0
PRODID:-//Philip Glass - ECPv6.15.13.1//NONSGML v1.0//EN
CALSCALE:GREGORIAN
METHOD:PUBLISH
X-ORIGINAL-URL:https://philipglass.com
X-WR-CALDESC:Events for Philip Glass
REFRESH-INTERVAL;VALUE=DURATION:PT1H
X-Robots-Tag:noindex
X-PUBLISHED-TTL:PT1H
BEGIN:VTIMEZONE
TZID:UTC
BEGIN:STANDARD
TZOFFSETFROM:+0000
TZOFFSETTO:+0000
TZNAME:UTC
DTSTART:20250101T000000
END:STANDARD
END:VTIMEZONE
BEGIN:VEVENT
DTSTART;VALUE=DATE:20260609
DTEND;VALUE=DATE:20260610
DTSTAMP:20260423T091934
CREATED:20251110T232454Z
LAST-MODIFIED:20260318T225343Z
UID:10001606-1780963200-1781049599@philipglass.com
SUMMARY:Geneva\, Switzerland (8 Sonneurs pour Philip Glass)
DESCRIPTION:https://lacitebleue.ch/en/evenement/8-sonneurs-pour-philip-glass/?utm_medium=display&utm_source=bachtrack.com&utm_campaign=listinglink \nWhat if bagpipes\, binious and bombards were the ideal instruments for performing Philip Glass’s music? That is the daring and fascinating challenge taken up by this unique show. \nWith 8 SONNEURS pour Philip Glass\, the legendary repertoire of the American composer and pioneer of minimalist music takes on a whole new dimension: his four iconic pieces written in 1969 (Two Pages\, Music in Fifths\, Music in Contrary Motion\, Music in Similar Motion) are reinterpreted here by traditional Breton musicians. \nThe result? A striking alchemy of sound where the richness of the timbres\, the continuous drone and the spatialisation of the sound transform the listening experience. Glass’s music becomes living\, vibrant\, almost hypnotic matter\, proving that Philip Glass’s spirit resonates just as powerfully in the vibrations of a drone as in the chips of a synthesiser.
URL:https://philipglass.com/event/geneva-switzerland-8-sonneurs-pour-philip-glass/
LOCATION:La Cité Bleue · Genève\, Av. de Miremont 46\, 1206 Genève\, Switzerland
END:VEVENT
END:VCALENDAR