BEGIN:VCALENDAR
VERSION:2.0
PRODID:-//Philip Glass - ECPv6.15.13.1//NONSGML v1.0//EN
CALSCALE:GREGORIAN
METHOD:PUBLISH
X-WR-CALNAME:Philip Glass
X-ORIGINAL-URL:https://philipglass.com
X-WR-CALDESC:Events for Philip Glass
REFRESH-INTERVAL;VALUE=DURATION:PT1H
X-Robots-Tag:noindex
X-PUBLISHED-TTL:PT1H
BEGIN:VTIMEZONE
TZID:UTC
BEGIN:STANDARD
TZOFFSETFROM:+0000
TZOFFSETTO:+0000
TZNAME:UTC
DTSTART:20250101T000000
END:STANDARD
END:VTIMEZONE
BEGIN:VEVENT
DTSTART;VALUE=DATE:20260618
DTEND;VALUE=DATE:20260619
DTSTAMP:20260423T075856
CREATED:20251110T232519Z
LAST-MODIFIED:20260318T225355Z
UID:10001613-1781740800-1781827199@philipglass.com
SUMMARY:London\, United Kingdom (Ballet: Tirol Concerto)
DESCRIPTION:https://www.rbo.org.uk/tickets-and-events/so-are-we-leon-and-lightfoot-details \nSo Are We: León and Lightfoot11–20 June 2026Main StageBallet and dance \nTwo works of deep feeling and yearning by the acclaimed contemporary choreographic duo.  \nThe works of Sol León and Paul Lightfoot have a uniquely characteristic movement language that is fluid yet angular\, soft and weightless yet simmering with tension. Their choreography has been performed all over the world\, most notably by Nederlands Dans Theater (NDT)\, where León and Lightfoot were house choreographers from 2002-20. They have created over 50 works for the Dutch contemporary company.   \nShoot the Moon\, celebrating its 20th anniversary\, explores relationships and the solitude that lies within them. The work is scored by Philip Glass‘s shifting tonal melodies within his Tirol Concerto.  \nSTANDBY\, originally choreographed as a film by Lightfoot during the pandemic in homage to the balletic art form\, will now be recreated by the duo as a world premiere for the Company. Drawing on a dancer’s daily study of ballet class\, Leon and Lightfoot reimagine it with their uniquely fluid choreographic passion\, sometimes integrating whispers of another reality. A freshly composed score by Ilya Demutsky will accompany the ensemble on the bare stage of the Royal Opera House.
URL:https://philipglass.com/event/london-united-kingdom-ballet-tirol-concerto-7/
LOCATION:Royal Ballet and Opera\, Bow Street\, St James's\, United Kingdom
GEO:51.512976813739;-0.12167360132712
X-APPLE-STRUCTURED-LOCATION;VALUE=URI;X-ADDRESS=Royal Ballet and Opera Bow Street St James's United Kingdom;X-APPLE-RADIUS=500;X-TITLE=Bow Street:geo:-0.12167360132712,51.512976813739
END:VEVENT
END:VCALENDAR