BEGIN:VCALENDAR
VERSION:2.0
PRODID:-//Philip Glass - ECPv6.15.13.1//NONSGML v1.0//EN
CALSCALE:GREGORIAN
METHOD:PUBLISH
X-WR-CALNAME:Philip Glass
X-ORIGINAL-URL:https://philipglass.com
X-WR-CALDESC:Events for Philip Glass
REFRESH-INTERVAL;VALUE=DURATION:PT1H
X-Robots-Tag:noindex
X-PUBLISHED-TTL:PT1H
BEGIN:VTIMEZONE
TZID:UTC
BEGIN:STANDARD
TZOFFSETFROM:+0000
TZOFFSETTO:+0000
TZNAME:UTC
DTSTART:20250101T000000
END:STANDARD
END:VTIMEZONE
BEGIN:VEVENT
DTSTART;VALUE=DATE:20260626
DTEND;VALUE=DATE:20260627
DTSTAMP:20260423T075842
CREATED:20250926T235053Z
LAST-MODIFIED:20260318T225359Z
UID:10001551-1782432000-1782518399@philipglass.com
SUMMARY:Los Angeles\, CA (Ballet: Signs)
DESCRIPTION:https://www.musiccenter.org/tickets-free-events/tmc-arts/dance/new-york-city-ballet/  \nDorothy Chandler Pavilion  \nSignsRed AngelsA Suite of DancesThe Times Are RacingPrograms\, dates & artists subject to change.  \nAfter more than a 20-year absence from The Music Center\, New York City Ballet—one of the world’s premier dance companies—returns with two electrifying programs. These performances showcase the company’s storied legacy\, featuring a roster of extraordinary dancers and an unmatched repertory sure to captivate Los Angeles audiences. Rooted in Founder George Balanchine’s revolutionary choreography\, New York City Ballet has shaped the ballet canon for more than 75 years. From masterpieces by Balanchine and New York City Ballet Co-Founding Choreographer Jerome Robbins to groundbreaking contemporary works by Ulysses Dove\, Justin Peck\, Tiler Peck\, Gianna Reisen and Christopher Wheeldon\, this residency is a must-see opportunity to witness the company’s legendary past and thrilling future. Both programs feature recorded music and live performances by the New York City Ballet Orchestra.  \nThe 2025/2026 Season is Dedicated to the Memory of Glorya Kaufman.
URL:https://philipglass.com/event/los-angeles-ca-ballet-signs-3/
LOCATION:Dorothy Chandler Pavilion\, 135 N Grand Ave\, Los Angeles\, CA\, United States
GEO:34.056195;-118.248551
X-APPLE-STRUCTURED-LOCATION;VALUE=URI;X-ADDRESS=Dorothy Chandler Pavilion 135 N Grand Ave Los Angeles CA United States;X-APPLE-RADIUS=500;X-TITLE=135 N Grand Ave:geo:-118.248551,34.056195
END:VEVENT
END:VCALENDAR