BEGIN:VCALENDAR
VERSION:2.0
PRODID:-//Philip Glass - ECPv6.15.13.1//NONSGML v1.0//EN
CALSCALE:GREGORIAN
METHOD:PUBLISH
X-WR-CALNAME:Philip Glass
X-ORIGINAL-URL:https://philipglass.com
X-WR-CALDESC:Events for Philip Glass
REFRESH-INTERVAL;VALUE=DURATION:PT1H
X-Robots-Tag:noindex
X-PUBLISHED-TTL:PT1H
BEGIN:VTIMEZONE
TZID:UTC
BEGIN:STANDARD
TZOFFSETFROM:+0000
TZOFFSETTO:+0000
TZNAME:UTC
DTSTART:20250101T000000
END:STANDARD
END:VTIMEZONE
BEGIN:VEVENT
DTSTART;VALUE=DATE:20260705
DTEND;VALUE=DATE:20260706
DTSTAMP:20260423T075902
CREATED:20260313T230914Z
LAST-MODIFIED:20260318T225407Z
UID:10001747-1783209600-1783295999@philipglass.com
SUMMARY:Lenox\, MA (Symphony No.15 "Lincoln")
DESCRIPTION:https://www.bso.org/events/july-5-boston-symphony-orch?performance=2026-07-05-14%3A30 \nPhilip Glass Symphony No. 15\, Lincoln \nWith John Williams Suite from Lincoln and Copland Lincoln Portrait  Koussevitzky Music Shed\, Lenox/Stockbridge\, MA  \n\nExplore: \n\nOverview\nArtists\nVenue\nSponsors\n\n\n\n \nBoston Symphony Orchestra \nKaren Kamensek\, conductor  Zachary James\, baritone (GLASS)  Philip GLASS Symphony No. 15\, Lincoln     intermission John WILLIAMS Suite from Lincoln COPLAND Lincoln Portrait
URL:https://philipglass.com/event/lenox-ma-symphony-no-15-lincoln/
LOCATION:Koussevitzky Music Shed\, 297 West St\, Lenox\, MA\, United States
GEO:42.353132;-73.309459
X-APPLE-STRUCTURED-LOCATION;VALUE=URI;X-ADDRESS=Koussevitzky Music Shed 297 West St Lenox MA United States;X-APPLE-RADIUS=500;X-TITLE=297 West St:geo:-73.309459,42.353132
END:VEVENT
END:VCALENDAR