BEGIN:VCALENDAR
VERSION:2.0
PRODID:-//Philip Glass - ECPv6.15.13.1//NONSGML v1.0//EN
CALSCALE:GREGORIAN
METHOD:PUBLISH
X-ORIGINAL-URL:https://philipglass.com
X-WR-CALDESC:Events for Philip Glass
REFRESH-INTERVAL;VALUE=DURATION:PT1H
X-Robots-Tag:noindex
X-PUBLISHED-TTL:PT1H
BEGIN:VTIMEZONE
TZID:UTC
BEGIN:STANDARD
TZOFFSETFROM:+0000
TZOFFSETTO:+0000
TZNAME:UTC
DTSTART:20250101T000000
END:STANDARD
END:VTIMEZONE
BEGIN:VEVENT
DTSTART;VALUE=DATE:20260727
DTEND;VALUE=DATE:20260728
DTSTAMP:20260423T091950
CREATED:20260212T232631Z
LAST-MODIFIED:20260318T225413Z
UID:10001698-1785110400-1785196799@philipglass.com
SUMMARY:London\, UK (The Tao of Glass)
DESCRIPTION:https://www.improbable.co.uk/current-projects/tao-of-glass  \nAn exploration of life\, loss and a single question: Where does true inspiration come from? \nComposer Philip Glass and performer-director Phelim McDermott have worked together on acclaimed opera productions in London\, New York and beyond\, and Tao of Glass is their most personal collaboration yet. Inspired by a dream\, this London premiere marries ten meditations on life\, death and Taoist wisdom with ten brand new pieces of music from Glass\, presented by McDermott with an ensemble of musicians and puppeteers. \nPart-concert\, part-performance\, Tao of Glass is a storytelling tapestry\, soundtracked by Glass’s mesmerising music and shot through with Improbable’s trademark theatricality. \n 
URL:https://philipglass.com/event/london-uk-the-tao-of-glass-2/
LOCATION:@sohoplace\, 4 Charing Cross Road\, London\, United Kingdom
GEO:51.5094296;-0.1274317
X-APPLE-STRUCTURED-LOCATION;VALUE=URI;X-ADDRESS=@sohoplace 4 Charing Cross Road London United Kingdom;X-APPLE-RADIUS=500;X-TITLE=4 Charing Cross Road:geo:-0.1274317,51.5094296
END:VEVENT
END:VCALENDAR