BEGIN:VCALENDAR
VERSION:2.0
PRODID:-//Philip Glass - ECPv6.15.13.1//NONSGML v1.0//EN
CALSCALE:GREGORIAN
METHOD:PUBLISH
X-ORIGINAL-URL:https://philipglass.com
X-WR-CALDESC:Events for Philip Glass
REFRESH-INTERVAL;VALUE=DURATION:PT1H
X-Robots-Tag:noindex
X-PUBLISHED-TTL:PT1H
BEGIN:VTIMEZONE
TZID:UTC
BEGIN:STANDARD
TZOFFSETFROM:+0000
TZOFFSETTO:+0000
TZNAME:UTC
DTSTART:20240101T000000
END:STANDARD
END:VTIMEZONE
BEGIN:VEVENT
DTSTART;VALUE=DATE:20251031
DTEND;VALUE=DATE:20251101
DTSTAMP:20260423T092518
CREATED:20250924T235029Z
LAST-MODIFIED:20251031T235044Z
UID:10001529-1761868800-1761955199@philipglass.com
SUMMARY:Riga\, Latvia\, (Double Concerto for Violin and Cello)
DESCRIPTION:https://www.lnso.lv/koncerti  \n31st October 2025 \nPiektdien\, 31. oktobrī\, plkst. 19.00 Rīgas Kongresu namā \nLNSO\, GLĀSS UN BARTOKS \nElīna BUKŠA – vijole \nKristaps BERGS – čells \nDiriģents Žiljēns MASMONDĒ (Julien Masmondet) \nProgrammā: \nKamilla Pepēna Inlandsis \nFilips GLĀSS Koncerts vijolei\, čellam un orķestrim \nBēla BARTOKS Baletsvīta “Brīnišķīgais mandarīns” \nSimfoniskās mūzikas piedzīvojumu meklētājiem – aizraujošas partitūras\, ko radījuši mūsdienu un pagājušā gadsimta radošie prāti. Ar jauno franču komponisti Kamillu Pepēnu iepazīsimies caur viņas “Klimatiskās triloģijas” pirmo daļu. Amerikāņu minimālisma garšu klausītājiem liks atcerēties Filipa Glāsa Dubultkoncerts. No 20. gadsimta skaņražiem – Bēla Bartoks un viņa krāšņā svīta no kādas īpaši skandalozas baletpantonīmas.   \nKoncerts norisinās ar Francijas institūta Latvijā atbalstu. \nKoncerts iekļauts LNSO rudens abonementā 2025\, ko iespējams iegādāties līdz 26. septembrim.
URL:https://philipglass.com/event/riga-latvia-double-concerto-for-violin-and-cello/
LOCATION:Rīgas Kongresu nams\, Krišjāņa Valdemāra iela 5\, Centra rajons\, Rīga\, LV-1010\, Latvia
END:VEVENT
END:VCALENDAR